BEGIN:VCALENDAR
VERSION:2.0
PRODID:-//Coplay Saengerbund - ECPv4.6.26//NONSGML v1.0//EN
CALSCALE:GREGORIAN
METHOD:PUBLISH
X-WR-CALNAME:Coplay Saengerbund
X-ORIGINAL-URL:https://coplaysaengerbund.com
X-WR-CALDESC:Events for Coplay Saengerbund
BEGIN:VEVENT
DTSTART;TZID=America/New_York:20230707T170000
DTEND;TZID=America/New_York:20230707T220000
DTSTAMP:20260423T103341
CREATED:20230525T152945Z
LAST-MODIFIED:20230525T153541Z
UID:1762-1688749200-1688767200@coplaysaengerbund.com
SUMMARY:American Street Band
DESCRIPTION:
URL:https://coplaysaengerbund.com/event/american-street-band-2/
END:VEVENT
END:VCALENDAR