BEGIN:VCALENDAR
VERSION:2.0
PRODID:-//Coplay Saengerbund - ECPv4.6.26//NONSGML v1.0//EN
CALSCALE:GREGORIAN
METHOD:PUBLISH
X-WR-CALNAME:Coplay Saengerbund
X-ORIGINAL-URL:https://coplaysaengerbund.com
X-WR-CALDESC:Events for Coplay Saengerbund
BEGIN:VEVENT
DTSTART;VALUE=DATE:20220701
DTEND;VALUE=DATE:20220702
DTSTAMP:20260424T093835
CREATED:20220318T134037Z
LAST-MODIFIED:20220318T134037Z
UID:1610-1656633600-1656719999@coplaysaengerbund.com
SUMMARY:American Street Band
DESCRIPTION:
URL:https://coplaysaengerbund.com/event/american-street-band/
CATEGORIES:Bands
END:VEVENT
END:VCALENDAR