BEGIN:VCALENDAR
VERSION:2.0
PRODID:-//Coplay Saengerbund - ECPv4.6.26//NONSGML v1.0//EN
CALSCALE:GREGORIAN
METHOD:PUBLISH
X-WR-CALNAME:Coplay Saengerbund
X-ORIGINAL-URL:https://coplaysaengerbund.com
X-WR-CALDESC:Events for Coplay Saengerbund
BEGIN:VEVENT
DTSTART;VALUE=DATE:20220909
DTEND;VALUE=DATE:20220910
DTSTAMP:20260424T030532
CREATED:20220318T134332Z
LAST-MODIFIED:20220318T134332Z
UID:1630-1662681600-1662767999@coplaysaengerbund.com
SUMMARY:Common Bond
DESCRIPTION:
URL:https://coplaysaengerbund.com/event/common-bond-2/
CATEGORIES:Bands
END:VEVENT
END:VCALENDAR