BEGIN:VCALENDAR
VERSION:2.0
PRODID:-//Coplay Saengerbund - ECPv4.6.26//NONSGML v1.0//EN
CALSCALE:GREGORIAN
METHOD:PUBLISH
X-WR-CALNAME:Coplay Saengerbund
X-ORIGINAL-URL:https://coplaysaengerbund.com
X-WR-CALDESC:Events for Coplay Saengerbund
BEGIN:VEVENT
DTSTART;VALUE=DATE:20220520
DTEND;VALUE=DATE:20220521
DTSTAMP:20260424T094657
CREATED:20220318T133838Z
LAST-MODIFIED:20220318T133838Z
UID:1598-1653004800-1653091199@coplaysaengerbund.com
SUMMARY:Common Bond
DESCRIPTION:
URL:https://coplaysaengerbund.com/event/common-bond/
CATEGORIES:Bands
END:VEVENT
END:VCALENDAR