BEGIN:VCALENDAR
VERSION:2.0
PRODID:-//Coplay Saengerbund - ECPv4.6.26//NONSGML v1.0//EN
CALSCALE:GREGORIAN
METHOD:PUBLISH
X-WR-CALNAME:Coplay Saengerbund
X-ORIGINAL-URL:https://coplaysaengerbund.com
X-WR-CALDESC:Events for Coplay Saengerbund
BEGIN:VEVENT
DTSTART;VALUE=DATE:20240310
DTEND;VALUE=DATE:20240311
DTSTAMP:20260422T223741
CREATED:20231206T210337Z
LAST-MODIFIED:20231206T210337Z
UID:1886-1710028800-1710115199@coplaysaengerbund.com
SUMMARY:Dave Bets
DESCRIPTION:
URL:https://coplaysaengerbund.com/event/dave-bets/
END:VEVENT
END:VCALENDAR