BEGIN:VCALENDAR
VERSION:2.0
PRODID:-//Coplay Saengerbund - ECPv4.6.26//NONSGML v1.0//EN
CALSCALE:GREGORIAN
METHOD:PUBLISH
X-WR-CALNAME:Coplay Saengerbund
X-ORIGINAL-URL:https://coplaysaengerbund.com
X-WR-CALDESC:Events for Coplay Saengerbund
BEGIN:VEVENT
DTSTART;TZID=America/New_York:20230129T150000
DTEND;TZID=America/New_York:20230129T180000
DTSTAMP:20260423T202957
CREATED:20230106T143610Z
LAST-MODIFIED:20230109T181830Z
UID:1689-1675004400-1675015200@coplaysaengerbund.com
SUMMARY:Dave Betz
DESCRIPTION:
URL:https://coplaysaengerbund.com/event/dave-betz-11/
CATEGORIES:Bands
END:VEVENT
END:VCALENDAR