BEGIN:VCALENDAR
VERSION:2.0
PRODID:-//Coplay Saengerbund - ECPv4.6.26//NONSGML v1.0//EN
CALSCALE:GREGORIAN
METHOD:PUBLISH
X-WR-CALNAME:Coplay Saengerbund
X-ORIGINAL-URL:https://coplaysaengerbund.com
X-WR-CALDESC:Events for Coplay Saengerbund
BEGIN:VEVENT
DTSTART;TZID=America/New_York:20250126T140000
DTEND;TZID=America/New_York:20250126T170000
DTSTAMP:20260424T174014
CREATED:20250109T195437Z
LAST-MODIFIED:20250109T195437Z
UID:2107-1737900000-1737910800@coplaysaengerbund.com
SUMMARY:Dave Betz
DESCRIPTION:
URL:https://coplaysaengerbund.com/event/dave-betz-18/
END:VEVENT
END:VCALENDAR