BEGIN:VCALENDAR
VERSION:2.0
PRODID:-//Coplay Saengerbund - ECPv4.6.26//NONSGML v1.0//EN
CALSCALE:GREGORIAN
METHOD:PUBLISH
X-WR-CALNAME:Coplay Saengerbund
X-ORIGINAL-URL:https://coplaysaengerbund.com
X-WR-CALDESC:Events for Coplay Saengerbund
BEGIN:VEVENT
DTSTART;TZID=America/New_York:20220925T150000
DTEND;TZID=America/New_York:20220925T150000
DTSTAMP:20260424T025858
CREATED:20211227T153311Z
LAST-MODIFIED:20211227T153311Z
UID:1536-1664118000-1664118000@coplaysaengerbund.com
SUMMARY:Dave Betz
DESCRIPTION:
URL:https://coplaysaengerbund.com/event/dave-betz-3/
CATEGORIES:Bands
END:VEVENT
END:VCALENDAR