BEGIN:VCALENDAR
VERSION:2.0
PRODID:-//Coplay Saengerbund - ECPv4.6.26//NONSGML v1.0//EN
CALSCALE:GREGORIAN
METHOD:PUBLISH
X-WR-CALNAME:Coplay Saengerbund
X-ORIGINAL-URL:https://coplaysaengerbund.com
X-WR-CALDESC:Events for Coplay Saengerbund
BEGIN:VEVENT
DTSTART;TZID=America/New_York:20230702T150000
DTEND;TZID=America/New_York:20230702T180000
DTSTAMP:20260423T103454
CREATED:20230106T144855Z
LAST-MODIFIED:20230109T183323Z
UID:1733-1688310000-1688320800@coplaysaengerbund.com
SUMMARY:Dave Betz – 4th of July Fest
DESCRIPTION:
URL:https://coplaysaengerbund.com/event/dave-betz-4th-of-july-fest/
CATEGORIES:Bands
END:VEVENT
END:VCALENDAR