BEGIN:VCALENDAR
VERSION:2.0
PRODID:-//Coplay Saengerbund - ECPv4.6.26//NONSGML v1.0//EN
CALSCALE:GREGORIAN
METHOD:PUBLISH
X-WR-CALNAME:Coplay Saengerbund
X-ORIGINAL-URL:https://coplaysaengerbund.com
X-WR-CALDESC:Events for Coplay Saengerbund
BEGIN:VEVENT
DTSTART;TZID=America/New_York:20221211T150000
DTEND;TZID=America/New_York:20221211T150000
DTSTAMP:20260423T235551
CREATED:20211227T154010Z
LAST-MODIFIED:20211227T154010Z
UID:1558-1670770800-1670770800@coplaysaengerbund.com
SUMMARY:Dave Betz
DESCRIPTION:
URL:https://coplaysaengerbund.com/event/dave-betz-9/
CATEGORIES:Bands
END:VEVENT
END:VCALENDAR