BEGIN:VCALENDAR
VERSION:2.0
PRODID:-//Coplay Saengerbund - ECPv4.6.26//NONSGML v1.0//EN
CALSCALE:GREGORIAN
METHOD:PUBLISH
X-WR-CALNAME:Coplay Saengerbund
X-ORIGINAL-URL:https://coplaysaengerbund.com
X-WR-CALDESC:Events for Coplay Saengerbund
BEGIN:VEVENT
DTSTART;VALUE=DATE:20240505
DTEND;VALUE=DATE:20240506
DTSTAMP:20260422T172502
CREATED:20231206T210722Z
LAST-MODIFIED:20231206T210722Z
UID:1902-1714867200-1714953599@coplaysaengerbund.com
SUMMARY:Dave Betz - Mai Tanz
DESCRIPTION:
URL:https://coplaysaengerbund.com/event/dave-betz-mai-tanz-2/
END:VEVENT
END:VCALENDAR