BEGIN:VCALENDAR
VERSION:2.0
PRODID:-//Coplay Saengerbund - ECPv4.6.26//NONSGML v1.0//EN
CALSCALE:GREGORIAN
METHOD:PUBLISH
X-WR-CALNAME:Coplay Saengerbund
X-ORIGINAL-URL:https://coplaysaengerbund.com
X-WR-CALDESC:Events for Coplay Saengerbund
BEGIN:VEVENT
DTSTART;TZID=America/New_York:20230507T150000
DTEND;TZID=America/New_York:20230507T180000
DTSTAMP:20260423T154152
CREATED:20230106T144421Z
LAST-MODIFIED:20230109T182755Z
UID:1717-1683471600-1683482400@coplaysaengerbund.com
SUMMARY:Dave Betz – Mai Tanz
DESCRIPTION:
URL:https://coplaysaengerbund.com/event/dave-betz-mai-tanz/
CATEGORIES:Bands
END:VEVENT
END:VCALENDAR