BEGIN:VCALENDAR
VERSION:2.0
PRODID:-//Coplay Saengerbund - ECPv4.6.26//NONSGML v1.0//EN
CALSCALE:GREGORIAN
METHOD:PUBLISH
X-WR-CALNAME:Coplay Saengerbund
X-ORIGINAL-URL:https://coplaysaengerbund.com
X-WR-CALDESC:Events for Coplay Saengerbund
BEGIN:VEVENT
DTSTART;VALUE=DATE:20220819
DTEND;VALUE=DATE:20220820
DTSTAMP:20260424T044107
CREATED:20220318T134237Z
LAST-MODIFIED:20220318T134237Z
UID:1624-1660867200-1660953599@coplaysaengerbund.com
SUMMARY:Doubting Thomas
DESCRIPTION:
URL:https://coplaysaengerbund.com/event/doubting-thomas-2/
CATEGORIES:Bands
END:VEVENT
END:VCALENDAR