BEGIN:VCALENDAR
VERSION:2.0
PRODID:-//Coplay Saengerbund - ECPv4.6.26//NONSGML v1.0//EN
CALSCALE:GREGORIAN
METHOD:PUBLISH
X-WR-CALNAME:Coplay Saengerbund
X-ORIGINAL-URL:https://coplaysaengerbund.com
X-WR-CALDESC:Events for Coplay Saengerbund
BEGIN:VEVENT
DTSTART;VALUE=DATE:20220610
DTEND;VALUE=DATE:20220611
DTSTAMP:20260424T075933
CREATED:20220318T133933Z
LAST-MODIFIED:20220318T133933Z
UID:1604-1654819200-1654905599@coplaysaengerbund.com
SUMMARY:Doubting Thomas
DESCRIPTION:
URL:https://coplaysaengerbund.com/event/doubting-thomas/
CATEGORIES:Bands
END:VEVENT
END:VCALENDAR