BEGIN:VCALENDAR
VERSION:2.0
PRODID:-//Coplay Saengerbund - ECPv4.6.26//NONSGML v1.0//EN
CALSCALE:GREGORIAN
METHOD:PUBLISH
X-WR-CALNAME:Coplay Saengerbund
X-ORIGINAL-URL:https://coplaysaengerbund.com
X-WR-CALDESC:Events for Coplay Saengerbund
BEGIN:VEVENT
DTSTART;TZID=America/New_York:20230709T150000
DTEND;TZID=America/New_York:20230709T180000
DTSTAMP:20260423T103127
CREATED:20230106T144918Z
LAST-MODIFIED:20230109T183405Z
UID:1735-1688914800-1688925600@coplaysaengerbund.com
SUMMARY:Emil Schanta
DESCRIPTION:
URL:https://coplaysaengerbund.com/event/emil-schanta-12/
CATEGORIES:Bands
END:VEVENT
END:VCALENDAR