BEGIN:VCALENDAR
VERSION:2.0
PRODID:-//Coplay Saengerbund - ECPv4.6.26//NONSGML v1.0//EN
CALSCALE:GREGORIAN
METHOD:PUBLISH
X-WR-CALNAME:Coplay Saengerbund
X-ORIGINAL-URL:https://coplaysaengerbund.com
X-WR-CALDESC:Events for Coplay Saengerbund
BEGIN:VEVENT
DTSTART;VALUE=DATE:20240114
DTEND;VALUE=DATE:20240115
DTSTAMP:20260423T014424
CREATED:20231206T210020Z
LAST-MODIFIED:20231206T210020Z
UID:1870-1705190400-1705276799@coplaysaengerbund.com
SUMMARY:Emil Schanta
DESCRIPTION:
URL:https://coplaysaengerbund.com/event/emil-schanta-13/
END:VEVENT
END:VCALENDAR