BEGIN:VCALENDAR
VERSION:2.0
PRODID:-//Coplay Saengerbund - ECPv4.6.26//NONSGML v1.0//EN
CALSCALE:GREGORIAN
METHOD:PUBLISH
X-WR-CALNAME:Coplay Saengerbund
X-ORIGINAL-URL:https://coplaysaengerbund.com
X-WR-CALDESC:Events for Coplay Saengerbund
BEGIN:VEVENT
DTSTART;TZID=America/New_York:20220227T150000
DTEND;TZID=America/New_York:20220227T150000
DTSTAMP:20260424T143439
CREATED:20210405T150406Z
LAST-MODIFIED:20211227T151511Z
UID:1362-1645974000-1645974000@coplaysaengerbund.com
SUMMARY:Emil Schanta
DESCRIPTION:
URL:https://coplaysaengerbund.com/event/emil-schanta-20/
CATEGORIES:Bands
END:VEVENT
END:VCALENDAR