BEGIN:VCALENDAR
VERSION:2.0
PRODID:-//Coplay Saengerbund - ECPv4.6.26//NONSGML v1.0//EN
CALSCALE:GREGORIAN
METHOD:PUBLISH
X-WR-CALNAME:Coplay Saengerbund
X-ORIGINAL-URL:https://coplaysaengerbund.com
X-WR-CALDESC:Events for Coplay Saengerbund
BEGIN:VEVENT
DTSTART;TZID=America/New_York:20260419T140000
DTEND;TZID=America/New_York:20260419T170000
DTSTAMP:20260421T160939
CREATED:20251230T144223Z
LAST-MODIFIED:20251230T144223Z
UID:2350-1776607200-1776618000@coplaysaengerbund.com
SUMMARY:Emil Schanta
DESCRIPTION:
URL:https://coplaysaengerbund.com/event/emil-schanta-41/
END:VEVENT
END:VCALENDAR