BEGIN:VCALENDAR
VERSION:2.0
PRODID:-//Coplay Saengerbund - ECPv4.6.26//NONSGML v1.0//EN
CALSCALE:GREGORIAN
METHOD:PUBLISH
X-WR-CALNAME:Coplay Saengerbund
X-ORIGINAL-URL:https://coplaysaengerbund.com
X-WR-CALDESC:Events for Coplay Saengerbund
BEGIN:VEVENT
DTSTART;TZID=America/New_York:20220918T150000
DTEND;TZID=America/New_York:20220918T150000
DTSTAMP:20260424T030702
CREATED:20211227T153251Z
LAST-MODIFIED:20211227T153251Z
UID:1534-1663513200-1663513200@coplaysaengerbund.com
SUMMARY:Emil Schanta
DESCRIPTION:
URL:https://coplaysaengerbund.com/event/emil-schanta-5/
CATEGORIES:Bands
END:VEVENT
END:VCALENDAR