BEGIN:VCALENDAR
VERSION:2.0
PRODID:-//Coplay Saengerbund - ECPv4.6.26//NONSGML v1.0//EN
CALSCALE:GREGORIAN
METHOD:PUBLISH
X-WR-CALNAME:Coplay Saengerbund
X-ORIGINAL-URL:https://coplaysaengerbund.com
X-WR-CALDESC:Events for Coplay Saengerbund
BEGIN:VEVENT
DTSTART;TZID=America/New_York:20230625T150000
DTEND;TZID=America/New_York:20230625T180000
DTSTAMP:20260423T103328
CREATED:20230106T144823Z
LAST-MODIFIED:20230109T183206Z
UID:1731-1687705200-1687716000@coplaysaengerbund.com
SUMMARY:Emil Schanta- Stiftungsfest
DESCRIPTION:
URL:https://coplaysaengerbund.com/event/emil-schanta-stiftungsfest/
CATEGORIES:Bands
END:VEVENT
END:VCALENDAR