BEGIN:VCALENDAR
VERSION:2.0
PRODID:-//Coplay Saengerbund - ECPv4.6.26//NONSGML v1.0//EN
CALSCALE:GREGORIAN
METHOD:PUBLISH
X-WR-CALNAME:Coplay Saengerbund
X-ORIGINAL-URL:https://coplaysaengerbund.com
X-WR-CALDESC:Events for Coplay Saengerbund
BEGIN:VEVENT
DTSTART;TZID=America/New_York:20230219T150000
DTEND;TZID=America/New_York:20230219T180000
DTSTAMP:20260423T185531
CREATED:20230106T143814Z
LAST-MODIFIED:20230109T182113Z
UID:1695-1676818800-1676829600@coplaysaengerbund.com
SUMMARY:Emil Schanta – Valentine
DESCRIPTION:
URL:https://coplaysaengerbund.com/event/emil-schanta-valentine/
CATEGORIES:Bands
END:VEVENT
END:VCALENDAR