BEGIN:VCALENDAR
VERSION:2.0
PRODID:-//Coplay Saengerbund - ECPv4.6.26//NONSGML v1.0//EN
CALSCALE:GREGORIAN
METHOD:PUBLISH
X-WR-CALNAME:Coplay Saengerbund
X-ORIGINAL-URL:https://coplaysaengerbund.com
X-WR-CALDESC:Events for Coplay Saengerbund
BEGIN:VEVENT
DTSTART;TZID=America/New_York:20230430T150000
DTEND;TZID=America/New_York:20230430T180000
DTSTAMP:20260423T140751
CREATED:20230106T144352Z
LAST-MODIFIED:20230109T182727Z
UID:1715-1682866800-1682877600@coplaysaengerbund.com
SUMMARY:Emil Schanta – Viennese Ball
DESCRIPTION:
URL:https://coplaysaengerbund.com/event/emil-schanta-viennese-ball/
CATEGORIES:Bands
END:VEVENT
END:VCALENDAR