BEGIN:VCALENDAR
VERSION:2.0
PRODID:-//Coplay Saengerbund - ECPv4.6.26//NONSGML v1.0//EN
CALSCALE:GREGORIAN
METHOD:PUBLISH
X-WR-CALNAME:Coplay Saengerbund
X-ORIGINAL-URL:https://coplaysaengerbund.com
X-WR-CALDESC:Events for Coplay Saengerbund
BEGIN:VEVENT
DTSTART;TZID=America/New_York:20221022T180000
DTEND;TZID=America/New_York:20221022T220000
DTSTAMP:20260424T013612
CREATED:20220919T154925Z
LAST-MODIFIED:20220919T155051Z
UID:1644-1666461600-1666476000@coplaysaengerbund.com
SUMMARY:Fundraiser for Joey with Dirty Roxx
DESCRIPTION:Download PDF \n
URL:https://coplaysaengerbund.com/event/fundraiser-for-joey-with-dirty-roxx/
CATEGORIES:Bands
END:VEVENT
END:VCALENDAR