BEGIN:VCALENDAR
VERSION:2.0
PRODID:-//Coplay Saengerbund - ECPv4.6.26//NONSGML v1.0//EN
CALSCALE:GREGORIAN
METHOD:PUBLISH
X-WR-CALNAME:Coplay Saengerbund
X-ORIGINAL-URL:https://coplaysaengerbund.com
X-WR-CALDESC:Events for Coplay Saengerbund
BEGIN:VEVENT
DTSTART;TZID=America/New_York:20220409T190000
DTEND;TZID=America/New_York:20220409T220000
DTSTAMP:20260424T110642
CREATED:20220112T152244Z
LAST-MODIFIED:20220112T152244Z
UID:1571-1649530800-1649541600@coplaysaengerbund.com
SUMMARY:James Supra
DESCRIPTION:No Cover\nKitchen open \n
URL:https://coplaysaengerbund.com/event/james-supra/
CATEGORIES:Bands
END:VEVENT
END:VCALENDAR