BEGIN:VCALENDAR
VERSION:2.0
PRODID:-//Coplay Saengerbund - ECPv4.6.26//NONSGML v1.0//EN
CALSCALE:GREGORIAN
METHOD:PUBLISH
X-WR-CALNAME:Coplay Saengerbund
X-ORIGINAL-URL:https://coplaysaengerbund.com
X-WR-CALDESC:Events for Coplay Saengerbund
BEGIN:VEVENT
DTSTART;TZID=America/New_York:20221113T150000
DTEND;TZID=America/New_York:20221113T150000
DTSTAMP:20260423T235431
CREATED:20211227T153830Z
LAST-MODIFIED:20211227T153830Z
UID:1550-1668351600-1668351600@coplaysaengerbund.com
SUMMARY:Joe Kroboth
DESCRIPTION:
URL:https://coplaysaengerbund.com/event/joe-kroboth-12/
CATEGORIES:Bands
END:VEVENT
END:VCALENDAR