BEGIN:VCALENDAR
VERSION:2.0
PRODID:-//Coplay Saengerbund - ECPv4.6.26//NONSGML v1.0//EN
CALSCALE:GREGORIAN
METHOD:PUBLISH
X-WR-CALNAME:Coplay Saengerbund
X-ORIGINAL-URL:https://coplaysaengerbund.com
X-WR-CALDESC:Events for Coplay Saengerbund
BEGIN:VEVENT
DTSTART;TZID=America/New_York:20230108T150000
DTEND;TZID=America/New_York:20230108T180000
DTSTAMP:20260423T203103
CREATED:20230106T143408Z
LAST-MODIFIED:20230109T183645Z
UID:1683-1673190000-1673200800@coplaysaengerbund.com
SUMMARY:Joe Kroboth
DESCRIPTION:
URL:https://coplaysaengerbund.com/event/joe-kroboth-14/
CATEGORIES:Bands
END:VEVENT
END:VCALENDAR