BEGIN:VCALENDAR
VERSION:2.0
PRODID:-//Coplay Saengerbund - ECPv4.6.26//NONSGML v1.0//EN
CALSCALE:GREGORIAN
METHOD:PUBLISH
X-WR-CALNAME:Coplay Saengerbund
X-ORIGINAL-URL:https://coplaysaengerbund.com
X-WR-CALDESC:Events for Coplay Saengerbund
BEGIN:VEVENT
DTSTART;TZID=America/New_York:20230226T150000
DTEND;TZID=America/New_York:20230226T180000
DTSTAMP:20260423T185230
CREATED:20230106T143846Z
LAST-MODIFIED:20230109T183750Z
UID:1697-1677423600-1677434400@coplaysaengerbund.com
SUMMARY:Joe Kroboth
DESCRIPTION:
URL:https://coplaysaengerbund.com/event/joe-kroboth-15/
CATEGORIES:Bands
END:VEVENT
END:VCALENDAR