BEGIN:VCALENDAR
VERSION:2.0
PRODID:-//Coplay Saengerbund - ECPv4.6.26//NONSGML v1.0//EN
CALSCALE:GREGORIAN
METHOD:PUBLISH
X-WR-CALNAME:Coplay Saengerbund
X-ORIGINAL-URL:https://coplaysaengerbund.com
X-WR-CALDESC:Events for Coplay Saengerbund
BEGIN:VEVENT
DTSTART;VALUE=DATE:20240107
DTEND;VALUE=DATE:20240108
DTSTAMP:20260423T013713
CREATED:20231206T205924Z
LAST-MODIFIED:20231206T205935Z
UID:1868-1704585600-1704671999@coplaysaengerbund.com
SUMMARY:Joe Kroboth
DESCRIPTION:
URL:https://coplaysaengerbund.com/event/joe-kroboth-17/
END:VEVENT
END:VCALENDAR