BEGIN:VCALENDAR
VERSION:2.0
PRODID:-//Coplay Saengerbund - ECPv4.6.26//NONSGML v1.0//EN
CALSCALE:GREGORIAN
METHOD:PUBLISH
X-WR-CALNAME:Coplay Saengerbund
X-ORIGINAL-URL:https://coplaysaengerbund.com
X-WR-CALDESC:Events for Coplay Saengerbund
BEGIN:VEVENT
DTSTART;TZID=America/New_York:20260426T140000
DTEND;TZID=America/New_York:20260426T170000
DTSTAMP:20260421T143430
CREATED:20251230T144354Z
LAST-MODIFIED:20251230T144354Z
UID:2352-1777212000-1777222800@coplaysaengerbund.com
SUMMARY:Joe Kroboth
DESCRIPTION:
URL:https://coplaysaengerbund.com/event/joe-kroboth-30/
END:VEVENT
END:VCALENDAR