BEGIN:VCALENDAR
VERSION:2.0
PRODID:-//Coplay Saengerbund - ECPv4.6.26//NONSGML v1.0//EN
CALSCALE:GREGORIAN
METHOD:PUBLISH
X-WR-CALNAME:Coplay Saengerbund
X-ORIGINAL-URL:https://coplaysaengerbund.com
X-WR-CALDESC:Events for Coplay Saengerbund
BEGIN:VEVENT
DTSTART;TZID=America/New_York:20220109T150000
DTEND;TZID=America/New_York:20220109T150000
DTSTAMP:20260424T161935
CREATED:20210405T150406Z
LAST-MODIFIED:20211227T151214Z
UID:1358-1641740400-1641740400@coplaysaengerbund.com
SUMMARY:Joe Kroboth
DESCRIPTION:
URL:https://coplaysaengerbund.com/event/joe-kroboth-6/
CATEGORIES:Bands
END:VEVENT
END:VCALENDAR