BEGIN:VCALENDAR
VERSION:2.0
PRODID:-//Coplay Saengerbund - ECPv4.6.26//NONSGML v1.0//EN
CALSCALE:GREGORIAN
METHOD:PUBLISH
X-WR-CALNAME:Coplay Saengerbund
X-ORIGINAL-URL:https://coplaysaengerbund.com
X-WR-CALDESC:Events for Coplay Saengerbund
BEGIN:VEVENT
DTSTART;TZID=America/New_York:20220320T150000
DTEND;TZID=America/New_York:20220320T150000
DTSTAMP:20260424T125249
CREATED:20211227T151621Z
LAST-MODIFIED:20211227T151621Z
UID:1471-1647788400-1647788400@coplaysaengerbund.com
SUMMARY:Joe Kroboth
DESCRIPTION:
URL:https://coplaysaengerbund.com/event/joe-kroboth-8/
CATEGORIES:Bands
END:VEVENT
END:VCALENDAR