BEGIN:VCALENDAR
VERSION:2.0
PRODID:-//Coplay Saengerbund - ECPv4.6.26//NONSGML v1.0//EN
CALSCALE:GREGORIAN
METHOD:PUBLISH
X-WR-CALNAME:Coplay Saengerbund
X-ORIGINAL-URL:https://coplaysaengerbund.com
X-WR-CALDESC:Events for Coplay Saengerbund
BEGIN:VEVENT
DTSTART;TZID=America/New_York:20230319T150000
DTEND;TZID=America/New_York:20230319T180000
DTSTAMP:20260423T171801
CREATED:20230106T144034Z
LAST-MODIFIED:20230109T182404Z
UID:1703-1679238000-1679248800@coplaysaengerbund.com
SUMMARY:Joe Kroboth – St Patricks
DESCRIPTION:
URL:https://coplaysaengerbund.com/event/joe-kroboth-st-patricks/
CATEGORIES:Bands
END:VEVENT
END:VCALENDAR