BEGIN:VCALENDAR
VERSION:2.0
PRODID:-//Coplay Saengerbund - ECPv4.6.26//NONSGML v1.0//EN
CALSCALE:GREGORIAN
METHOD:PUBLISH
X-WR-CALNAME:Coplay Saengerbund
X-ORIGINAL-URL:https://coplaysaengerbund.com
X-WR-CALDESC:Events for Coplay Saengerbund
BEGIN:VEVENT
DTSTART;TZID=America/New_York:20230423T150000
DTEND;TZID=America/New_York:20230423T180000
DTSTAMP:20260425T124045
CREATED:20230106T144325Z
LAST-MODIFIED:20230109T182651Z
UID:1713-1682262000-1682272800@coplaysaengerbund.com
SUMMARY:John & Maria
DESCRIPTION:
URL:https://coplaysaengerbund.com/event/john-maria/
CATEGORIES:Bands
END:VEVENT
END:VCALENDAR