BEGIN:VCALENDAR
VERSION:2.0
PRODID:-//Coplay Saengerbund - ECPv4.6.26//NONSGML v1.0//EN
CALSCALE:GREGORIAN
METHOD:PUBLISH
X-WR-CALNAME:Coplay Saengerbund
X-ORIGINAL-URL:https://coplaysaengerbund.com
X-WR-CALDESC:Events for Coplay Saengerbund
BEGIN:VEVENT
DTSTART;TZID=America/New_York:20220313T150000
DTEND;TZID=America/New_York:20220313T150000
DTSTAMP:20260424T125147
CREATED:20210405T150407Z
LAST-MODIFIED:20211227T151555Z
UID:1363-1647183600-1647183600@coplaysaengerbund.com
SUMMARY:John & Marie
DESCRIPTION:
URL:https://coplaysaengerbund.com/event/john-marie-8/
CATEGORIES:Bands
END:VEVENT
END:VCALENDAR