BEGIN:VCALENDAR
VERSION:2.0
PRODID:-//Coplay Saengerbund - ECPv4.6.26//NONSGML v1.0//EN
CALSCALE:GREGORIAN
METHOD:PUBLISH
X-WR-CALNAME:Coplay Saengerbund
X-ORIGINAL-URL:https://coplaysaengerbund.com
X-WR-CALDESC:Events for Coplay Saengerbund
BEGIN:VEVENT
DTSTART;VALUE=DATE:20240428
DTEND;VALUE=DATE:20240429
DTSTAMP:20260422T191454
CREATED:20231206T210654Z
LAST-MODIFIED:20231206T210654Z
UID:1900-1714262400-1714348799@coplaysaengerbund.com
SUMMARY:John & Marie
DESCRIPTION:
URL:https://coplaysaengerbund.com/event/john-marie-9/
END:VEVENT
END:VCALENDAR