BEGIN:VCALENDAR
VERSION:2.0
PRODID:-//Coplay Saengerbund - ECPv4.6.26//NONSGML v1.0//EN
CALSCALE:GREGORIAN
METHOD:PUBLISH
X-WR-CALNAME:Coplay Saengerbund
X-ORIGINAL-URL:https://coplaysaengerbund.com
X-WR-CALDESC:Events for Coplay Saengerbund
BEGIN:VEVENT
DTSTART;TZID=America/New_York:20220605T150000
DTEND;TZID=America/New_York:20220605T150000
DTSTAMP:20260424T093334
CREATED:20211227T152557Z
LAST-MODIFIED:20211227T152557Z
UID:1504-1654441200-1654441200@coplaysaengerbund.com
SUMMARY:John & Marie
DESCRIPTION:
URL:https://coplaysaengerbund.com/event/john-marie/
CATEGORIES:Bands
END:VEVENT
END:VCALENDAR