BEGIN:VCALENDAR
VERSION:2.0
PRODID:-//Coplay Saengerbund - ECPv4.6.26//NONSGML v1.0//EN
CALSCALE:GREGORIAN
METHOD:PUBLISH
X-WR-CALNAME:Coplay Saengerbund
X-ORIGINAL-URL:https://coplaysaengerbund.com
X-WR-CALDESC:Events for Coplay Saengerbund
BEGIN:VEVENT
DTSTART;VALUE=DATE:20240121
DTEND;VALUE=DATE:20240122
DTSTAMP:20260423T000111
CREATED:20231206T210046Z
LAST-MODIFIED:20231206T210046Z
UID:1872-1705795200-1705881599@coplaysaengerbund.com
SUMMARY:Jolly Barvarians
DESCRIPTION:
URL:https://coplaysaengerbund.com/event/jolly-barvarians/
END:VEVENT
END:VCALENDAR