BEGIN:VCALENDAR
VERSION:2.0
PRODID:-//Coplay Saengerbund - ECPv4.6.26//NONSGML v1.0//EN
CALSCALE:GREGORIAN
METHOD:PUBLISH
X-WR-CALNAME:Coplay Saengerbund
X-ORIGINAL-URL:https://coplaysaengerbund.com
X-WR-CALDESC:Events for Coplay Saengerbund
BEGIN:VEVENT
DTSTART;TZID=America/New_York:20221002T150000
DTEND;TZID=America/New_York:20221002T150000
DTSTAMP:20260424T013503
CREATED:20211227T153403Z
LAST-MODIFIED:20220919T154047Z
UID:1540-1664722800-1664722800@coplaysaengerbund.com
SUMMARY:Jolly Bavarians
DESCRIPTION:
URL:https://coplaysaengerbund.com/event/jolly-bavarians-3/
CATEGORIES:Bands
END:VEVENT
END:VCALENDAR