BEGIN:VCALENDAR
VERSION:2.0
PRODID:-//Coplay Saengerbund - ECPv4.6.26//NONSGML v1.0//EN
CALSCALE:GREGORIAN
METHOD:PUBLISH
X-WR-CALNAME:Coplay Saengerbund
X-ORIGINAL-URL:https://coplaysaengerbund.com
X-WR-CALDESC:Events for Coplay Saengerbund
BEGIN:VEVENT
DTSTART;TZID=America/New_York:20230115T150000
DTEND;TZID=America/New_York:20230115T180000
DTSTAMP:20260423T203635
CREATED:20230106T143508Z
LAST-MODIFIED:20230109T181646Z
UID:1685-1673794800-1673805600@coplaysaengerbund.com
SUMMARY:Jolly Bavarians
DESCRIPTION:
URL:https://coplaysaengerbund.com/event/jolly-bavarians-4/
CATEGORIES:Bands
END:VEVENT
END:VCALENDAR