BEGIN:VCALENDAR
VERSION:2.0
PRODID:-//Coplay Saengerbund - ECPv4.6.26//NONSGML v1.0//EN
CALSCALE:GREGORIAN
METHOD:PUBLISH
X-WR-CALNAME:Coplay Saengerbund
X-ORIGINAL-URL:https://coplaysaengerbund.com
X-WR-CALDESC:Events for Coplay Saengerbund
BEGIN:VEVENT
DTSTART;TZID=America/New_York:20240120T190000
DTEND;TZID=America/New_York:20240120T220000
DTSTAMP:20260422T235941
CREATED:20231213T202815Z
LAST-MODIFIED:20231213T202815Z
UID:1992-1705777200-1705788000@coplaysaengerbund.com
SUMMARY:Jump Start Duo
DESCRIPTION:No Cover Charge\n
URL:https://coplaysaengerbund.com/event/jump-start-duo/
END:VEVENT
END:VCALENDAR