BEGIN:VCALENDAR
VERSION:2.0
PRODID:-//Coplay Saengerbund - ECPv4.6.26//NONSGML v1.0//EN
CALSCALE:GREGORIAN
METHOD:PUBLISH
X-WR-CALNAME:Coplay Saengerbund
X-ORIGINAL-URL:https://coplaysaengerbund.com
X-WR-CALDESC:Events for Coplay Saengerbund
BEGIN:VEVENT
DTSTART;VALUE=DATE:20230409
DTEND;VALUE=DATE:20230410
DTSTAMP:20260423T153702
CREATED:20230106T144211Z
LAST-MODIFIED:20230106T144211Z
UID:1709-1680998400-1681084799@coplaysaengerbund.com
SUMMARY:No Dance Easter
DESCRIPTION:
URL:https://coplaysaengerbund.com/event/no-dance-easter-2/
CATEGORIES:Bands
END:VEVENT
END:VCALENDAR