BEGIN:VCALENDAR
VERSION:2.0
PRODID:-//Coplay Saengerbund - ECPv4.6.26//NONSGML v1.0//EN
CALSCALE:GREGORIAN
METHOD:PUBLISH
X-WR-CALNAME:Coplay Saengerbund
X-ORIGINAL-URL:https://coplaysaengerbund.com
X-WR-CALDESC:Events for Coplay Saengerbund
BEGIN:VEVENT
DTSTART;TZID=America/New_York:20221123T183000
DTEND;TZID=America/New_York:20221123T220000
DTSTAMP:20260423T235249
CREATED:20221101T133121Z
LAST-MODIFIED:20221101T133152Z
UID:1663-1669228200-1669240800@coplaysaengerbund.com
SUMMARY:Phatt Crizzy
DESCRIPTION:No Cover\, Kitchen open \n
URL:https://coplaysaengerbund.com/event/phatt-crizzy/
CATEGORIES:Bands
END:VEVENT
END:VCALENDAR