BEGIN:VCALENDAR
VERSION:2.0
PRODID:-//Coplay Saengerbund - ECPv4.6.26//NONSGML v1.0//EN
CALSCALE:GREGORIAN
METHOD:PUBLISH
X-WR-CALNAME:Coplay Saengerbund
X-ORIGINAL-URL:https://coplaysaengerbund.com
X-WR-CALDESC:Events for Coplay Saengerbund
BEGIN:VEVENT
DTSTART;TZID=America/New_York:20240106T190000
DTEND;TZID=America/New_York:20240106T220000
DTSTAMP:20260423T014409
CREATED:20231213T202449Z
LAST-MODIFIED:20231213T202522Z
UID:1985-1704567600-1704578400@coplaysaengerbund.com
SUMMARY:Remnants Trio
DESCRIPTION:No Cover Charge\n
URL:https://coplaysaengerbund.com/event/remnants-trio/
END:VEVENT
END:VCALENDAR