BEGIN:VCALENDAR
VERSION:2.0
PRODID:-//Coplay Saengerbund - ECPv4.6.26//NONSGML v1.0//EN
CALSCALE:GREGORIAN
METHOD:PUBLISH
X-WR-CALNAME:Coplay Saengerbund
X-ORIGINAL-URL:https://coplaysaengerbund.com
X-WR-CALDESC:Events for Coplay Saengerbund
BEGIN:VEVENT
DTSTART;VALUE=DATE:20220708
DTEND;VALUE=DATE:20220709
DTSTAMP:20260424T080432
CREATED:20220318T134054Z
LAST-MODIFIED:20220318T134054Z
UID:1612-1657238400-1657324799@coplaysaengerbund.com
SUMMARY:Ricky and the Rebels
DESCRIPTION:
URL:https://coplaysaengerbund.com/event/ricky-and-the-rebels/
CATEGORIES:Bands
END:VEVENT
END:VCALENDAR