BEGIN:VCALENDAR
VERSION:2.0
PRODID:-//Coplay Saengerbund - ECPv4.6.26//NONSGML v1.0//EN
CALSCALE:GREGORIAN
METHOD:PUBLISH
X-WR-CALNAME:Coplay Saengerbund
X-ORIGINAL-URL:https://coplaysaengerbund.com
X-WR-CALDESC:Events for Coplay Saengerbund
BEGIN:VEVENT
DTSTART;TZID=America/New_York:20230602T170000
DTEND;TZID=America/New_York:20230602T220000
DTSTAMP:20260423T140326
CREATED:20230525T152736Z
LAST-MODIFIED:20230525T153751Z
UID:1752-1685725200-1685743200@coplaysaengerbund.com
SUMMARY:Ricky Smith & The Crush
DESCRIPTION:
URL:https://coplaysaengerbund.com/event/ricky-smith-the-crush/
END:VEVENT
END:VCALENDAR