BEGIN:VCALENDAR
VERSION:2.0
PRODID:-//Coplay Saengerbund - ECPv4.6.26//NONSGML v1.0//EN
CALSCALE:GREGORIAN
METHOD:PUBLISH
X-WR-CALNAME:Coplay Saengerbund
X-ORIGINAL-URL:https://coplaysaengerbund.com
X-WR-CALDESC:Events for Coplay Saengerbund
BEGIN:VEVENT
DTSTART;TZID=America/New_York:20230630T170000
DTEND;TZID=America/New_York:20230630T220000
DTSTAMP:20260423T102950
CREATED:20230525T152919Z
LAST-MODIFIED:20230525T153600Z
UID:1760-1688144400-1688162400@coplaysaengerbund.com
SUMMARY:Smith Compound Band
DESCRIPTION:
URL:https://coplaysaengerbund.com/event/smith-compound-band-2/
END:VEVENT
END:VCALENDAR