BEGIN:VCALENDAR
VERSION:2.0
PRODID:-//Coplay Saengerbund - ECPv4.6.26//NONSGML v1.0//EN
CALSCALE:GREGORIAN
METHOD:PUBLISH
X-WR-CALNAME:Coplay Saengerbund
X-ORIGINAL-URL:https://coplaysaengerbund.com
X-WR-CALDESC:Events for Coplay Saengerbund
BEGIN:VEVENT
DTSTART;TZID=America/New_York:20230901T170000
DTEND;TZID=America/New_York:20230901T220000
DTSTAMP:20260423T065906
CREATED:20230525T154010Z
LAST-MODIFIED:20230525T154010Z
UID:1779-1693587600-1693605600@coplaysaengerbund.com
SUMMARY:Social Call
DESCRIPTION:
URL:https://coplaysaengerbund.com/event/social-call-4/
END:VEVENT
END:VCALENDAR