BEGIN:VCALENDAR
VERSION:2.0
PRODID:-//Coplay Saengerbund - ECPv4.6.26//NONSGML v1.0//EN
CALSCALE:GREGORIAN
METHOD:PUBLISH
X-WR-CALNAME:Coplay Saengerbund
X-ORIGINAL-URL:https://coplaysaengerbund.com
X-WR-CALDESC:Events for Coplay Saengerbund
BEGIN:VEVENT
DTSTART;VALUE=DATE:20240524
DTEND;VALUE=DATE:20240525
DTSTAMP:20260422T174017
CREATED:20240326T132242Z
LAST-MODIFIED:20240326T132242Z
UID:2015-1716508800-1716595199@coplaysaengerbund.com
SUMMARY:Social Call
DESCRIPTION:
URL:https://coplaysaengerbund.com/event/social-call-5/
END:VEVENT
END:VCALENDAR