BEGIN:VCALENDAR
VERSION:2.0
PRODID:-//Coplay Saengerbund - ECPv4.6.26//NONSGML v1.0//EN
CALSCALE:GREGORIAN
METHOD:PUBLISH
X-WR-CALNAME:Coplay Saengerbund
X-ORIGINAL-URL:https://coplaysaengerbund.com
X-WR-CALDESC:Events for Coplay Saengerbund
BEGIN:VEVENT
DTSTART;VALUE=DATE:20220527
DTEND;VALUE=DATE:20220528
DTSTAMP:20260424T093955
CREATED:20220318T133853Z
LAST-MODIFIED:20220318T133853Z
UID:1600-1653609600-1653695999@coplaysaengerbund.com
SUMMARY:Social Call
DESCRIPTION:
URL:https://coplaysaengerbund.com/event/social-call/
CATEGORIES:Bands
END:VEVENT
END:VCALENDAR