BEGIN:VCALENDAR
VERSION:2.0
PRODID:-//Coplay Saengerbund - ECPv4.6.26//NONSGML v1.0//EN
CALSCALE:GREGORIAN
METHOD:PUBLISH
X-WR-CALNAME:Coplay Saengerbund
X-ORIGINAL-URL:https://coplaysaengerbund.com
X-WR-CALDESC:Events for Coplay Saengerbund
BEGIN:VEVENT
DTSTART;VALUE=DATE:20220729
DTEND;VALUE=DATE:20220730
DTSTAMP:20260424T080317
CREATED:20220318T134144Z
LAST-MODIFIED:20220318T134144Z
UID:1618-1659052800-1659139199@coplaysaengerbund.com
SUMMARY:Sons of Izzy
DESCRIPTION:
URL:https://coplaysaengerbund.com/event/sons-of-izzy-2/
CATEGORIES:Bands
END:VEVENT
END:VCALENDAR